BEGIN:VCALENDAR
VERSION:2.0
PRODID:-//Tukios.com/
BEGIN:VEVENT
UID:745f08f6-e67b-411e-9701-2be577d701ff@www.haripclosefunerals.com
DTSTAMP:20260420T205105Z
DTSTART:20260430T150000Z
DTEND:20260430T160000Z
SUMMARY:Celebration Of Life for Mrs. Lillian Jackson
DESCRIPTION:
URL:https://www.haripclosefunerals.com/obituaries/lillian-jackson
LOCATION:The New Union Baptist Church, Inc. of Baltimore, MD 510 North 
	Monroe Street  Baltimore MD 21223
GEO:39.2940761;-76.6474736
END:VEVENT
END:VCALENDAR