BEGIN:VCALENDAR
VERSION:2.0
PRODID:-//Tukios.com/
BEGIN:VEVENT
UID:c089b656-d49a-4dac-af84-16df8cac9092@www.haripclosefunerals.com
DTSTAMP:20260420T204737Z
DTSTART:20260430T143000Z
DTEND:20260430T153000Z
SUMMARY:Wake for Mrs. Lillian Jackson
DESCRIPTION:
URL:https://www.haripclosefunerals.com/obituaries/lillian-jackson
LOCATION:The New Union Baptist Church, Inc. of Baltimore, MD 510 North 
	Monroe Street  Baltimore MD 21223
GEO:39.2940761;-76.6474736
END:VEVENT
END:VCALENDAR