BEGIN:VCALENDAR
VERSION:2.0
PRODID:-//Tukios.com/
BEGIN:VEVENT
UID:e2aeaf97-2dd4-4669-bc9a-4cd82d7df07a@www.haripclosefunerals.com
DTSTAMP:20260420T204958Z
DTSTART:20260429T210000Z
DTEND:20260429T230000Z
SUMMARY:Viewing for Mrs. Lillian Jackson
DESCRIPTION:
URL:https://www.haripclosefunerals.com/obituaries/lillian-jackson
LOCATION:The New Union Baptist Church, Inc. of Baltimore, MD 510 North 
	Monroe Street  Baltimore MD 21223
GEO:39.2940761;-76.6474736
END:VEVENT
END:VCALENDAR