BEGIN:VCALENDAR
VERSION:2.0
PRODID:-//Tukios.com/
BEGIN:VEVENT
UID:41c5b8bd-3581-48d5-a6c6-0edf32c01911@www.haripclosefunerals.com
DTSTAMP:20260420T204017Z
DTSTART:20260430T174500Z
DTEND:20260430T184500Z
SUMMARY:Interment for Mrs. Lillian Jackson
DESCRIPTION:
URL:https://www.haripclosefunerals.com/obituaries/lillian-jackson
LOCATION:Garrison  Forest Veterans Cemetery 11501 Garrison Forest Road  
	Owings Mills MD 21117
GEO:39.4399736;-76.7682208
END:VEVENT
END:VCALENDAR