BEGIN:VCALENDAR
VERSION:2.0
PRODID:-//Tukios.com/
BEGIN:VEVENT
UID:bc5f3d89-dfec-4fc1-9c5a-dbdd22a5b36c@www.haripclosefunerals.com
DTSTAMP:20260422T205818Z
DTSTART:20260516T173000Z
DTEND:20260516T183000Z
SUMMARY:Interment for Mrs. Frances Summers
DESCRIPTION:
URL:https://www.haripclosefunerals.com/obituaries/frances-summers
LOCATION:King Memorial Park 8700 Dogwood Road   MD 21244
GEO:39.3293161;-76.810201
END:VEVENT
END:VCALENDAR