BEGIN:VCALENDAR
VERSION:2.0
PRODID:-//Tukios.com/
BEGIN:VEVENT
UID:20210e09-8261-4e03-a477-66a70c746ae0@www.haripclosefunerals.com
DTSTAMP:20260422T210454Z
DTSTART:20260516T143000Z
DTEND:20260516T153000Z
SUMMARY:Celebration Of Life for Mrs. Frances Summers
DESCRIPTION:
URL:https://www.haripclosefunerals.com/obituaries/frances-summers
LOCATION:Perkins Square Baptist Church 2500 Edmondson Avenue  Baltimore 
	MD 21223
GEO:39.2949403;-76.6565771
END:VEVENT
END:VCALENDAR