BEGIN:VCALENDAR
VERSION:2.0
PRODID:-//Tukios.com/
BEGIN:VEVENT
UID:f0748fc3-2f7c-4db7-b9a8-9680a102b9bf@www.haripclosefunerals.com
DTSTAMP:20260422T205836Z
DTSTART:20260516T140000Z
DTEND:20260516T150000Z
SUMMARY:Visitation for Mrs. Frances Summers
DESCRIPTION:
URL:https://www.haripclosefunerals.com/obituaries/frances-summers
LOCATION:Perkins Square Baptist Church 2500 Edmondson Avenue  Baltimore 
	MD 21223
GEO:39.2949403;-76.6565771
END:VEVENT
END:VCALENDAR