BEGIN:VCALENDAR
VERSION:2.0
PRODID:-//Tukios.com/
BEGIN:VEVENT
UID:86ee85fa-28a7-4328-aca7-e6969c1f674f@www.haripclosefunerals.com
DTSTAMP:20260422T210455Z
DTSTART:20260515T210000Z
DTEND:20260516T000000Z
SUMMARY:Viewing for Mrs. Frances Summers
DESCRIPTION:
URL:https://www.haripclosefunerals.com/obituaries/frances-summers
LOCATION:Perkins Square Baptist Church 2500 Edmondson Avenue  Baltimore 
	MD 21223
GEO:39.2949403;-76.6565771
END:VEVENT
END:VCALENDAR